BEGIN:VCALENDAR
VERSION:2.0
PRODID:-//NCCC - ECPv4.6.25//NONSGML v1.0//EN
CALSCALE:GREGORIAN
METHOD:PUBLISH
X-WR-CALNAME:NCCC
X-ORIGINAL-URL:http://carolinacompost.com
X-WR-CALDESC:Events for NCCC
BEGIN:VEVENT
DTSTART;TZID=UTC+0:20220129T110000
DTEND;TZID=UTC+0:20220129T120000
DTSTAMP:20260420T143703
CREATED:20220116T035722Z
LAST-MODIFIED:20220116T035722Z
UID:5393-1643454000-1643457600@carolinacompost.com
SUMMARY:COMPOSTING DROP-IN
DESCRIPTION: \n
URL:http://carolinacompost.com/event/composting-drop-in/
LOCATION:Village Regional Library\, 1930 Clark Ave\, Raleigh\, NC\, 27605\, United States
END:VEVENT
END:VCALENDAR