BEGIN:VCALENDAR
VERSION:2.0
PRODID:-//NCCC - ECPv4.6.25//NONSGML v1.0//EN
CALSCALE:GREGORIAN
METHOD:PUBLISH
X-WR-CALNAME:NCCC
X-ORIGINAL-URL:http://carolinacompost.com
X-WR-CALDESC:Events for NCCC
BEGIN:VEVENT
DTSTART;VALUE=DATE:20171026
DTEND;VALUE=DATE:20171028
DTSTAMP:20260419T142233
CREATED:20170516T225418Z
LAST-MODIFIED:20170705T142021Z
UID:3653-1508976000-1509148799@carolinacompost.com
SUMMARY:NC State's 18th Annual Vermiculture Conference
DESCRIPTION:Network and seek advice for success in a growing industry! \nThe only annual training in the world on commercial vermiculture\, this event provides the tools you need to start or expand an earthworm or vermicompost production operation. At this conference there are ample opportunities to get answers to your questions from industry experts and other growers. \nDuring this two-day conference\, you will learn how to start or expand an earthworm or vermicompost production facility. Key issues for vermicomposting operations will be covered\, such as earthworm husbandry\, feedstocks\, siting\, equipment\, permits\, monitoring\, harvesting\, shipping\, and marketing. \nAlthough dairy manure is the leading feedstock used in large vermicomposting operations in the USA\, an increasing number of facilities are processing food waste. Speakers at this conference will describe their experiences using each of these feedstocks. A researcher in Israel will share his work with vermicomposting spent mushroom waste\, and an entrepreneur will describe the three dozen large vermicomposting operations he has set up in communities in Mexico. Another speaker will share her findings on a recent tour of vermicomposting facilities in Cuba and the United States. Additional topics are on the Agenda page of the conference website. \nRegistration is now open for 18th Vermiculture Conference\, October 26-27. Click here: \nhttps://composting.ces.ncsu.edu/vermiculture-conference/ \n
URL:http://carolinacompost.com/event/nc-states-18th-annual-vermiculture-conference/
LOCATION:The James B. Hunt Jr. Library Duke Energy Hall\, 1070 Partners Way\, Raleigh\, NC\, 27606
GEO:35.7692923;-78.6766382
X-APPLE-STRUCTURED-LOCATION;VALUE=URI;X-ADDRESS=The James B. Hunt Jr. Library Duke Energy Hall 1070 Partners Way Raleigh NC 27606;X-APPLE-RADIUS=500;X-TITLE=1070 Partners Way:geo:-78.6766382,35.7692923
CATEGORIES:NCSU
END:VEVENT
END:VCALENDAR