BEGIN:VCALENDAR
VERSION:2.0
PRODID:-//NCCC - ECPv4.6.25//NONSGML v1.0//EN
CALSCALE:GREGORIAN
METHOD:PUBLISH
X-WR-CALNAME:NCCC
X-ORIGINAL-URL:http://carolinacompost.com
X-WR-CALDESC:Events for NCCC
BEGIN:VEVENT
DTSTART;TZID=UTC+0:20181017T173000
DTEND;TZID=UTC+0:20181017T193000
DTSTAMP:20260421T102611
CREATED:20180925T153708Z
LAST-MODIFIED:20180925T153708Z
UID:4071-1539797400-1539804600@carolinacompost.com
SUMMARY:Sustainable Spirits
DESCRIPTION: \nThe NCCC and NC Business Council invite you to the October 2018 Sustainable Spirits in Pittsboro! Note that we’re meeting on a Wednesday\, not a Tuesday\, this month. Enjoy free hors d’ouevres compliments of the NC Business Council\, and treat yourself to the craft spirits and wines of the Fair Game Beverage Company. Learn how the NC Business Council connects\, empowers and influences leaders to build a vibrant economy that sustains local economies\, protects natural resources and benefits all North Carolinians. \nThe Fair Game Beverage Co. Tasting Room is at 220 Lorax Ln\, Pittsboro\, NC 27312.  Meet us there on Wednesday\, October 17\, at 5:30 pm.  You’ll meet lots of other eco-conscious revelers\, tour the distillery\, and walk the fascinating campus that holds Piedmont Bio Farm\, Piedmont Biofuels\, Abundance Foundation and more.  To register for the event go to: \nhttps://www.eventbrite.com/e/sustainable-spirits-pittsboro-october-2018-tickets-50385939702 \n  \n
URL:http://carolinacompost.com/event/sustainable-spirits/
LOCATION:Fair Game Beverage Co. Tasting Room\, 220 Lorax Lane\, Pittsboro\, NC\, 27312\, United States
END:VEVENT
END:VCALENDAR