BEGIN:VCALENDAR
VERSION:2.0
PRODID:-//NCCC - ECPv4.6.25//NONSGML v1.0//EN
CALSCALE:GREGORIAN
METHOD:PUBLISH
X-WR-CALNAME:NCCC
X-ORIGINAL-URL:https://carolinacompost.com
X-WR-CALDESC:Events for NCCC
BEGIN:VEVENT
DTSTART;TZID=UTC+0:20151029T080000
DTEND;TZID=UTC+0:20151029T120000
DTSTAMP:20260421T085122
CREATED:20151006T125913Z
LAST-MODIFIED:20151006T140117Z
UID:476-1446105600-1446120000@carolinacompost.com
SUMMARY:Compost\, Vermicompost and Tea Brewing Workshop
DESCRIPTION:Small-to-Large Scale Compost\, Vermicomposting and Tea Brewing: How to Do It and Use the Products!\nCenter for Environmental Farming Systems  (CEFS) is pleased to present to host Rhonda Sherman (NCSU\, Biological and Agricultural Engineering) as she expertly lectures on small-to-large scale composting\, vermicomposting and tea brewing – how to do it and use the products! \n\n\n\n\n\n\nCompost/ Vermicompost Workshop// //  \n\n\n\n\n\nHave you ever…\n– tried composting but never had a hot pile?\n– set up a worm bin and your worms died?\n– wondered how to do composting or vermicomposting on a larger scale\, and maybe make some money from it?\n– wanted to make and use compost tea?\n– seen pictures of various types of worm bins and compost bins but haven’t seen them in person?   \nDuring this 4-hour workshop\, you will learn about small-to-large scale composting and vermicomposting\, the value of their products and how to use them\, and how to make and use compost tea. You will also tour NC State’s Compost Training Facility and see more than two dozen types of composting units and worm bins\, plus a compost tea brewer. You can also examine a 40 square foot continuous-flow vermi-reactor and observe more than 12\,000 earthworms consume dairy manure. \n\nCost $10.00 per person\nPayment Method \nPay By Check \nPlease make check payable to: \n\n\n\n\n\n\n\n\n\n\n\n\nNC State University (Memo line must be blank)\nCenter for Environmental Farming Systems\nBox 7609 – NCSU\nRaleigh\, NC 27695\n\n\n\n\n\n\n\n\n\n\n\n\nCLICK HERE TO REGISTER \nRhonda Sherman with Composting Worms \n\nComposting Worms \n\nComposting Bin \n\n\n\n\n\n\n\n
URL:https://carolinacompost.com/event/compost-vermicompost-and-tea-brewing-workshop/
LOCATION:NC State – J. Edward Booth Field Learning Lab\, 4000 Chi Road\, Raleigh\, NC\, 27603\, United States
GEO:35.7343555;-78.6762929
X-APPLE-STRUCTURED-LOCATION;VALUE=URI;X-ADDRESS=NC State – J. Edward Booth Field Learning Lab 4000 Chi Road Raleigh NC 27603 United States;X-APPLE-RADIUS=500;X-TITLE=4000 Chi Road:geo:-78.6762929,35.7343555
CATEGORIES:Community Events,NCSU
ATTACH;FMTTYPE=image/jpeg:https://carolinacompost.com/wp-content/uploads/2015/10/Worms-Red-Wigglers.jpg
ORGANIZER;CN="Lisa%20Forehand":MAILTO:lisa_forehand@ncsu.edu
END:VEVENT
END:VCALENDAR