BEGIN:VCALENDAR
VERSION:2.0
PRODID:-//NCCC - ECPv4.6.25//NONSGML v1.0//EN
CALSCALE:GREGORIAN
METHOD:PUBLISH
X-WR-CALNAME:NCCC
X-ORIGINAL-URL:https://carolinacompost.com
X-WR-CALDESC:Events for NCCC
BEGIN:VEVENT
DTSTART;TZID=America/New_York:20250506T120000
DTEND;TZID=America/New_York:20250506T130000
DTSTAMP:20260421T182713
CREATED:20250429T211024Z
LAST-MODIFIED:20250429T211024Z
UID:7966-1746532800-1746536400@carolinacompost.com
SUMMARY:ICAW Lunch-N-Learn Webinar
DESCRIPTION:Are you looking to expand your composting operation to include food waste\, but not sure where to begin? Join us for this informative and practical webinar that provides an introduction into the benefits\, challenges\, and logistics of incorporating food waste into your composting facility. This presentation will be led by Betsy LaForce and Orion Black-Brown from Green Mountain Technologies\, and includes a Q&A with expert NC panelists: Matt Ball from NCSU’s Composting Facility\, Riley Alber from Wilmington Compost Company\, Patrick Downey from McGill Compost\, and Muriel Williman from the City of Durham’s Department of Solid Waste.\n\nIn this session we’ll cover: \n– The implications of adding food waste to a facility \n– Key considerations for design\, permitting\, and feedstock management \n– Common contaminants and how to reduce them \n– Best practices and technology options for odor control and managing product quality \n– Real-world examples of facilities that have successfully made the transition \nWhether you’re managing a yard-waste facility\, operating a farm\, or working in municipal waste\, this webinar will give you the tools and insights to confidently accept and process food-waste. This is a condensed version of the all day food waste composting workshop that Green Mountain Technologies provides during the USCC annual conference. \nThis webinar is free to attend. Learn more and register here.  \n\n
URL:https://carolinacompost.com/event/icaw-lunch-n-learn-webinar/
END:VEVENT
END:VCALENDAR