BEGIN:VCALENDAR
VERSION:2.0
PRODID:-//NCCC - ECPv4.6.25//NONSGML v1.0//EN
CALSCALE:GREGORIAN
METHOD:PUBLISH
X-WR-CALNAME:NCCC
X-ORIGINAL-URL:https://carolinacompost.com
X-WR-CALDESC:Events for NCCC
BEGIN:VEVENT
DTSTART;TZID=America/New_York:20250522T173000
DTEND;TZID=America/New_York:20250522T193000
DTSTAMP:20260421T151630
CREATED:20250429T210629Z
LAST-MODIFIED:20250429T211243Z
UID:7961-1747935000-1747942200@carolinacompost.com
SUMMARY:May Sustainable Spirits: Boone
DESCRIPTION:Join the North Carolina Composting Council’s May Sustainable Spirits gathering in Boone\, at the Cardinal\, for our first high country gathering! Sustainable Spirits are professional-networking socials rotating around the state for people who share the NC Composting Council’s environmental commitment to composting and waste reduction. At this event we’re also proud to showcase and connect with one of NCCC’s 2025 grant recipients\, App State Sustainability! In addition to upgrading a food-scrap drop spot on campus\, they are also forming a High-Country Regional Waste Committee as part of the grant-project! \nThe event is free to attend\, but please rsvp in advance so we can plan an appropriate amount of food. \nAppetizers are provided thanks to our event sponsor\, Vermeer All Roads. \nVermeer All Roads stands as a trusted Vermeer dealer partner\, serving a wide range of industries with high-quality equipment\, exceptional service\, and dependable support. As a grassroots nonprofit\, we greatly appreciate Vermeer’s generous sponsorship! \nSAVE YOUR SEAT AT NCCC’s MAY SUSTAINABLE SPIRITS IN BOONE \n
URL:https://carolinacompost.com/event/may-sustainable-spirits-boone/
END:VEVENT
END:VCALENDAR